BEGIN:VCALENDAR
VERSION:2.0
PRODID:-//Squarespace Inc/Squarespace 6//v6//EN
BEGIN:VEVENT
UID:619ffce2a101db56c4756f49@squarespace.com
DTSTAMP:20211125T211646Z
DTSTART:20210829T023000Z
DTEND:20210829T053000Z
SUMMARY:Guitar Eclectic- Volunteer Appreciation Party
END:VEVENT
END:VCALENDAR
