BEGIN:VCALENDAR
VERSION:2.0
PRODID:-//Squarespace Inc/Squarespace 6//v6//EN
BEGIN:VEVENT
UID:638e7fb077804f024139d563@squarespace.com
DTSTAMP:20221205T235327Z
DTSTART:20221120T200000Z
DTEND:20221121T000000Z
SUMMARY:Meow Mingle Doggie Swag Sidewalk Sale
GEO:40.630083;-73.939953
LOCATION:Muddy Paw Coffee\, 3320 Sunset Boulevard\, Los Angeles\, CA\, 9002
 6\, United States
END:VEVENT
END:VCALENDAR
