BEGIN:VCALENDAR
VERSION:2.0
PRODID:-//Squarespace Inc/Squarespace 6//v6//EN
BEGIN:VEVENT
UID:63e56897efd9e5489a005b26@squarespace.com
DTSTAMP:20230209T214738Z
DTSTART:20221120T200000Z
DTEND:20221121T000000Z
SUMMARY:Meow Mingle
GEO:34.086844;-118.275799
LOCATION:Muddy Paw Coffee\, 3320 Sunset Boulevard\, Los Angeles\, CA\, 9002
 6\, United States
END:VEVENT
END:VCALENDAR
