BEGIN:VCALENDAR
VERSION:2.0
PRODID:-//Squarespace Inc/Squarespace 6//v6//EN
BEGIN:VEVENT
UID:638e81d4807e89079c66af36@squarespace.com
DTSTAMP:20221205T235255Z
DTSTART:20221211T010000Z
DTEND:20221211T050000Z
SUMMARY:Shop\, Sip &amp\; Save Kittens-Sumi's Los Feliz
GEO:34.103978;-118.29164
LOCATION:Sumi's Los Feliz\, 1812 North Vermont Avenue\, Los Angeles\, CA\, 
 90027\, United States
END:VEVENT
END:VCALENDAR
