BEGIN:VCALENDAR
VERSION:2.0
PRODID:-//Squarespace Inc/Squarespace 6//v6//EN
BEGIN:VEVENT
UID:6273f8c2f18aaf67b6db6616@squarespace.com
DTSTAMP:20220505T163745Z
DTSTART:20220501T030000Z
DTEND:20220501T050000Z
SUMMARY:Live Jazz Fundraiser
GEO:34.127648;-118.217509
LOCATION:muddy paw coffee\, 4610 Eagle Rock Boulevard\, Los Angeles\, CA\, 
 90041\, United States
END:VEVENT
END:VCALENDAR
