BEGIN:VCALENDAR
VERSION:2.0
PRODID:-//Squarespace Inc/Squarespace 6//v6//EN
BEGIN:VEVENT
UID:6273f9e931efca58d5ddd04e@squarespace.com
DTSTAMP:20220505T162709Z
DTSTART:20220406T010000Z
DTEND:20220406T020000Z
SUMMARY:Mayoral Candidate Forum
GEO:38.926754;-94.661582
LOCATION:Zoom
END:VEVENT
END:VCALENDAR
