BEGIN:VCALENDAR
VERSION:2.0
PRODID:-//Squarespace Inc/Squarespace 6//v6//EN
BEGIN:VEVENT
UID:62cdd8d5a4efa670df8b524c@squarespace.com
DTSTAMP:20220712T203026Z
DTSTART:20220716T030000Z
DTEND:20220716T050000Z
SUMMARY:Comedy for Cats
GEO:34.069176;-118.227672
LOCATION:Oracle Tavern\, 1640 North Spring Street\, Los Angeles\, CA\, 9001
 2\, United States
END:VEVENT
END:VCALENDAR
