BEGIN:VCALENDAR
VERSION:2.0
PRODID:-//Squarespace Inc/Squarespace 6//v6//EN
BEGIN:VEVENT
UID:62db40d7c805f82182eecaee@squarespace.com
DTSTAMP:20220723T003910Z
DTSTART:20220724T210000Z
DTEND:20220724T230000Z
SUMMARY:A Crash Course in Bottle Baby Kittens
GEO:34.127648;-118.217509
LOCATION:Muddy Paw Coffee\, 4610 Eagle Rock Boulevard\, Los Angeles\, CA\, 
 90041\, United States
END:VEVENT
END:VCALENDAR
