BEGIN:VCALENDAR
VERSION:2.0
PRODID:-//Squarespace Inc/Squarespace 6//v6//EN
BEGIN:VEVENT
UID:62ed95be010ae8217b87af65@squarespace.com
DTSTAMP:20220805T221704Z
DTSTART:20220807T180000Z
DTEND:20220807T210000Z
SUMMARY:Coffee &amp\; Kittens Adoption Mingle
GEO:34.086844;-118.275799
LOCATION:Muddy Paw Coffee\, 3320 w. Sunset Boulevard\, Los Angeles\, CA\, 9
 0026\, United States
END:VEVENT
END:VCALENDAR
