BEGIN:VCALENDAR
VERSION:2.0
PRODID:-//Squarespace Inc/Squarespace 6//v6//EN
BEGIN:VEVENT
UID:63446bc03bbd440405a4df9c@squarespace.com
DTSTAMP:20221010T190556Z
DTSTART:20220924T220000Z
DTEND:20220925T040000Z
SUMMARY:Frogtown Art Walk Meow Mingle
END:VEVENT
END:VCALENDAR
