BEGIN:VCALENDAR
VERSION:2.0
PRODID:-//Squarespace Inc/Squarespace 6//v6//EN
BEGIN:VEVENT
UID:62db40d74b31cb7d5244424d@squarespace.com
DTSTAMP:20230209T215104Z
DTSTART:20230122T200000Z
DTEND:20230123T000000Z
SUMMARY:Microchip Clinic
GEO:34.127648;-118.217509
LOCATION:Muddy Paw Eagle Rock\, 4610 Eagle Rock Boulevard\, Los Angeles\, C
 A\, 90041\, United States
END:VEVENT
END:VCALENDAR
