BEGIN:VCALENDAR
VERSION:2.0
PRODID:-//Squarespace Inc/Squarespace 6//v6//EN
BEGIN:VEVENT
UID:63e5671aabb615230ca054f7@squarespace.com
DTSTAMP:20230209T214441Z
DTSTART:20230211T230000Z
DTEND:20230212T030000Z
SUMMARY:Art + Love Kitten Kissing Booth
GEO:34.098556;-118.24357
LOCATION:Blake Lofts\, 1901 Blake Avenue\, Los Angeles\, CA\, 90039\, Unite
 d States
END:VEVENT
END:VCALENDAR
