BEGIN:VCALENDAR
VERSION:2.0
PRODID:-//Squarespace Inc/Squarespace 6//v6//EN
BEGIN:VEVENT
UID:5c675705f9619a97a6bf4168@squarespace.com
DTSTAMP:20190216T005541Z
DTSTART:20190224T200000Z
DTEND:20190224T230000Z
SUMMARY:Kitten Lounge Shopping Pop-up
GEO:34.113123;-118.247905
LOCATION:No Tox Life\, Fletcher Drive\, Los Angeles\, CA\, United States
END:VEVENT
END:VCALENDAR
