BEGIN:VCALENDAR
VERSION:2.0
PRODID:-//Squarespace Inc/Squarespace 6//v6//EN
BEGIN:VEVENT
UID:5c675606e79c70106efc8077@squarespace.com
DTSTAMP:20190216T005452Z
DTSTART:20190217T013000Z
DTEND:20190217T033000Z
SUMMARY:Kitten Kissing Booth
GEO:34.09557;-118.283068
LOCATION:LA County Store\, 4333 Sunset Boulevard\, Los Angeles\, CA\, 90029
 \, United States
END:VEVENT
END:VCALENDAR
